Workbook
Name tabella: Vendite!$B$23:$F$77
Name tabella: #REF!

Sheet A
A1: Media di Fatturato | B1: Settore
A2: Agente | B2: Art. Regalo | C2: Cancelleria | D2: Giocattoli | E2: Informatica | F2: Libri | G2: Totale complessivo
A3: Rossi | B3: 963.36842 | C3: 1067 | D3: 859.29412 | E3: 1024.9444 | F3: 936.35 | G3: 974.60417
A4: Azzurri | B4: 1061.6 | C4: 1088.7857 | D4: 1240.4375 | E4: 856.76471 | F4: 1097.5714 | G4: 1067.8072
A5: Bianchi | B5: 1039.8095 | C5: 664 | D5: 1077.0476 | E5: 1223.8667 | F5: 1131.4 | G5: 1058.3908
A6: Gialli | B6: 1065.7273 | C6: 927.73684 | D6: 998.07143 | E6: 956.53846 | F6: 1116.3333 | G6: 1010.9625
A7: Neri | B7: 1182.7333 | C7: 1108.1667 | D7: 1032.3571 | E7: 1019.6429 | F7: 760.46667 | G7: 1016.7714
A8: Verdi | B8: 913.61111 | C8: 899.54545 | D8: 1138.2667 | E8: 1359.2143 | F8: 982.6 | G8: 1036.631
A9: Totale complessivo | B9: 1033.6 | C9: 970.42424 | D9: 1057.4536 | E9: 1067.1538 | F9: 1009.1845 | G9: 1026.796

Sheet B
A1: Somma di Fatturato | B1: Settore
A2: Agente e Provincia | B2: Cancelleria | C2: Informatica | D2: Totale complessivo
A3: Bianchi | B3: 715 | C3: 1090 | D3: 1805
A4: Sassari | C4: 1090 | D4: 1090
A5: Trento | B5: 715 | D5: 715
A6: Neri | B6: 1421 | D6: 1421
A7: Rovigo | B7: 1421 | D7: 1421
A8: Verdi | B8: 2501 | D8: 2501
A9: Rovigo | B9: 3 | D9: 3
A10: Sassari | B10: 1916 | D10: 1916
A11: Trento | B11: 582 | D11: 582
A12: Totale complessivo | B12: 4637 | C12: 1090 | D12: 5727

Sheet C
A1: Fatturato Settore/mese | B1: Settore
A2: Mesi | B2: Art. Regalo | C2: Cancelleria | D2: Giocattoli | E2: Informatica | F2: Libri | G2: Totale complessivo
A3: gennaio | B3: 8993 | C3: 18166 | D3: 18737 | E3: 12190 | F3: 16234 | G3: 74320
A4: febbraio | B4: 24821 | C4: 13396 | D4: 22665 | E4: 16942 | F4: 20553 | G4: 98377
A5: marzo | B5: 14467 | C5: 15587 | D5: 10142 | E5: 20558 | F5: 15611 | G5: 76365
A6: aprile | B6: 22590 | C6: 13960 | D6: 14922 | E6: 18124 | F6: 14466 | G6: 84062
A7: maggio | B7: 20012 | C7: 16914 | D7: 24718 | E7: 13463 | F7: 14273 | G7: 89380
A8: giugno | B8: 22813 | C8: 18049 | D8: 11389 | E8: 15834 | F8: 22809 | G8: 90894
A9: Totale complessivo | B9: 113696 | C9: 96072 | D9: 102573 | E9: 97111 | F9: 103946 | G9: 513398

Sheet D
A1: Media di Fatturato | B1: Settore
A2: Regione | B2: Art. Regalo | C2: Cancelleria | D2: Giocattoli | E2: Informatica | F2: Libri | G2: Totale complessivo
A3: Abruzzo | B3: 417 | C3: 726 | D3: 1724.8 | E3: 933.4 | F3: 947.5 | G3: 1097.1053
A4: Basilicata | B4: 1030.6 | C4: 764.66667 | D4: 855 | E4: 1897 | F4: 1208 | G4: 1012
A5: Calabria | B5: 1236.25 | C5: 1472.75 | D5: 1149.2 | E5: 865.81818 | F5: 1041.5714 | G5: 1077.3226
A6: Campania | B6: 1239.25 | D6: 721.25 | E6: 155 | F6: 1611 | G6: 1146.5714
A7: Emilia-Romagna | B7: 1299.8889 | C7: 1040.3077 | D7: 790.16667 | E7: 1175.8571 | F7: 868.75 | G7: 1034.4681
A8: Friuli-Venezia Giulia | B8: 723.33333 | C8: 531.33333 | D8: 1327.4286 | E8: 1235.75 | F8: 684.75 | G8: 907.48148
A9: Lazio | B9: 1107.3636 | C9: 1129.4286 | D9: 953.57143 | E9: 839.6 | F9: 1114.625 | G9: 1049.3947
A10: Liguria | B10: 688.5 | C10: 1493 | D10: 1247.5 | E10: 1236.2 | F10: 1537.4286 | G10: 1207.0455
A11: Lombardia | B11: 860.28571 | C11: 1039.125 | D11: 976.2 | E11: 1008 | F11: 786.16667 | G11: 931.9375
A12: Marche | B12: 947.66667 | C12: 1032.6667 | D12: 1234 | E12: 1421.3333 | F12: 1596 | G12: 1185
A13: Piemonte | B13: 1180.5455 | C13: 532.55556 | D13: 783 | E13: 1524.5 | F13: 892 | G13: 902.7561
A14: Puglia | D14: 840 | E14: 662 | F14: 997 | G14: 764.6
A15: Sardegna | B15: 1123.8 | C15: 1045.6667 | D15: 1494 | E15: 623 | F15: 908.66667 | G15: 989.66667
A16: Sicilia | B16: 1231.7143 | C16: 1156.6667 | D16: 1045 | E16: 1160.7273 | F16: 702.83333 | G16: 1080.2059
A17: Toscana | B17: 831 | C17: 1178.0909 | D17: 1001.6 | E17: 817.09091 | F17: 1016.3333 | G17: 966.36538
A18: Trentino-Alto Adige | C18: 685.33333 | D18: 1774 | E18: 1136.5 | F18: 689 | G18: 970.28571
A19: Umbria | B19: 675.875 | C19: 1001.25 | D19: 1170.5714 | E19: 1353.4 | F19: 1138 | G19: 1029.0625
A20: Veneto | B20: 1269.4167 | C20: 865.90909 | D20: 1048 | E20: 1303.9091 | F20: 923.44444 | G20: 1088.4828
A21: Totale complessivo | B21: 1033.6 | C21: 970.42424 | D21: 1057.4536 | E21: 1067.1538 | F21: 1009.1845 | G21: 1026.796

Sheet E
A1: Nr. Vendite | B1: Zona
A2: Venditore | B2: CENTRO | C2: ISOLE | D2: NORD | E2: SUD | F2: Totale complessivo
A3: Rossi | B3: 29 | C3: 8 | D3: 45 | E3: 14 | F3: 96
A4: Azzurri | B4: 30 | C4: 11 | D4: 29 | E4: 13 | F4: 83
A5: Bianchi | B5: 26 | C5: 12 | D5: 44 | E5: 5 | F5: 87
A6: Gialli | B6: 20 | C6: 6 | D6: 42 | E6: 12 | F6: 80
A7: Neri | B7: 18 | C7: 5 | D7: 40 | E7: 7 | F7: 70
A8: Verdi | B8: 29 | C8: 7 | D8: 34 | E8: 14 | F8: 84
A9: Totale complessivo | B9: 152 | C9: 49 | D9: 234 | E9: 65 | F9: 500

Sheet F
A1: Conteggio di ID Vendita | B1: Venditore
A2: Fascia | B2: Rossi | C2: Azzurri | D2: Bianchi | E2: Gialli | F2: Neri | G2: Verdi | H2: Totale complessivo
A3: Fascia 1 (inferiore a 400 €) | B3: 14 | C3: 18 | D3: 13 | E3: 16 | F3: 13 | G3: 17 | H3: 91
A4: Fascia 2 (da 400 € a meno di 800 €) | B4: 27 | C4: 10 | D4: 17 | E4: 17 | F4: 11 | G4: 15 | H4: 97
A5: Fascia 3 (da 800 € a meno di 1200 €) | B5: 20 | C5: 15 | D5: 19 | E5: 14 | F5: 18 | G5: 13 | H5: 99
A6: Fascia 4 (da 1200 € a meno di 1500 €) | B6: 14 | C6: 15 | D6: 14 | E6: 10 | F6: 12 | G6: 16 | H6: 81
A7: Fascia 5 (da 1500 € e oltre) | B7: 21 | C7: 25 | D7: 24 | E7: 23 | F7: 16 | G7: 23 | H7: 132
A8: Totale complessivo | B8: 96 | C8: 83 | D8: 87 | E8: 80 | F8: 70 | G8: 84 | H8: 500

Sheet G
A1: Fatturato per: | B1: Settore
A2: Zone e Regioni | B2: Cancelleria | C2: Informatica | D2: Libri | E2: Totale complessivo
A3: CENTRO | B3: 33425 | C3: 28884 | D3: 29897 | E3: 92206
A4: Abruzzo | B4: 1452 | C4: 4667 | D4: 5685 | E4: 11804
A5: Lazio | B5: 7906 | C5: 4198 | D5: 8917 | E5: 21021
A6: Marche | B6: 3098 | C6: 4264 | D6: 1596 | E6: 8958
A7: Toscana | B7: 12959 | C7: 8988 | D7: 9147 | E7: 31094
A8: Umbria | B8: 8010 | C8: 6767 | D8: 4552 | E8: 19329
A9: NORD | B9: 44385 | C9: 40028 | D9: 48347 | E9: 132760
A10: Emilia-Romagna | B10: 13524 | C10: 8231 | D10: 10425 | E10: 32180
A11: Friuli-Venezia Giulia | B11: 3188 | C11: 4943 | D11: 2739 | E11: 10870
A12: Liguria | B12: 2986 | C12: 6181 | D12: 10762 | E12: 19929
A13: Lombardia | B13: 8313 | C13: 1008 | D13: 4717 | E13: 14038
A14: Piemonte | B14: 4793 | C14: 3049 | D14: 10704 | E14: 18546
... A19: Calabria | B19: 5891 | C19: 9524 | D19: 7291 | E19: 22706
A20: Campania | C20: 155 | D20: 8055 | E20: 8210
A21: Puglia | C21: 1986 | D21: 997 | E21: 2983
A22: Totale complessivo | B22: 85995 | C22: 82474 | D22: 97003 | E22: 265472

Sheet H
A1: Tipo Pagamento | B1: % sul fatturato | C1: % sul volume vendita
A2: Contanti | B2: 0.17743349 | C2: 0.194
A3: Assegno Bancario | B3: 0.20932688 | C3: 0.216
A4: Bonifico Bancario | B4: 0.18649664 | C4: 0.186
A5: Carta di credito | B5: 0.24063787 | C5: 0.222
A6: Bollettino postale | B6: 0.18610513 | C6: 0.182
A7: Totale complessivo | B7: 1 | C7: 1

Sheet Vendite
A1: ID Vendita | B1: data | C1: Venditore | D1: Provincia | E1: Settore | F1: Fatturato | G1: ID tipo pagamento | H1: Regione | I1: ZONA | J1: Fasce | K1: Tipo pagamentio
A2: 4 | B2: 41810 | C2: Azzurri | D2: Ravenna | E2: Art. Regalo | F2: 972 | G2: 1 | H2: =VLOOKUP(vendite[[#This Row],[Provincia]],'Dati di Supporto'!$B$3:$C$105,2) -> Emilia-Romagna | I2: =VLOOKUP(vendite[[#This Row],[Regione]],'Dati di Supporto'!$G$3:$H$22,2) -> NORD | J2: =IF(F2<400,'Dati di Supporto'!$P$3,IF(AND(F2>400,F2<800),'Dati di Supporto'!$P$4,IF(AND(F2>800,F2<1200),'Dati di Supporto'!$P$5,IF(AND(F2>1200,F2<1500),'Dati di Supporto'!$P$6,IF(F2>1500,'Dati di Supporto'!$P$7,"FALSO"))))) -> Fascia 3 (da 800 € a meno di 1200 €) | K2: =VLOOKUP(vendite[[#This Row],[ID tipo pagamento]],'Dati di Supporto'!$O$12:$P$16,2) -> Contanti
A3: 8 | B3: 41742 | C3: Azzurri | D3: Sassari | E3: Informatica | F3: 760 | G3: 2 | H3: =VLOOKUP(vendite[[#This Row],[Provincia]],'Dati di Supporto'!$B$3:$C$105,2) -> Sardegna | I3: =VLOOKUP(vendite[[#This Row],[Regione]],'Dati di Supporto'!$G$3:$H$22,2) -> ISOLE | J3: =IF(F3<400,'Dati di Supporto'!$P$3,IF(AND(F3>400,F3<800),'Dati di Supporto'!$P$4,IF(AND(F3>800,F3<1200),'Dati di Supporto'!$P$5,IF(AND(F3>1200,F3<1500),'Dati di Supporto'!$P$6,IF(F3>1500,'Dati di Supporto'!$P$7,"FALSO"))))) -> Fascia 2 (da 400 € a meno di 800 €) | K3: =VLOOKUP(vendite[[#This Row],[ID tipo pagamento]],'Dati di Supporto'!$O$12:$P$16,2) -> Bonifico Bancario
A4: 9 | B4: 41754 | C4: Azzurri | D4: Pistoia | E4: Informatica | F4: 10 | G4: 5 | H4: =VLOOKUP(vendite[[#This Row],[Provincia]],'Dati di Supporto'!$B$3:$C$105,2) -> Toscana | I4: =VLOOKUP(vendite[[#This Row],[Regione]],'Dati di Supporto'!$G$3:$H$22,2) -> CENTRO | J4: =IF(F4<400,'Dati di Supporto'!$P$3,IF(AND(F4>400,F4<800),'Dati di Supporto'!$P$4,IF(AND(F4>800,F4<1200),'Dati di Supporto'!$P$5,IF(AND(F4>1200,F4<1500),'Dati di Supporto'!$P$6,IF(F4>1500,'Dati di Supporto'!$P$7,"FALSO"))))) -> Fascia 1 (inferiore a 400 €) | K4: =VLOOKUP(vendite[[#This Row],[ID tipo pagamento]],'Dati di Supporto'!$O$12:$P$16,2) -> Assegno Bancario
A5: 10 | B5: 41722 | C5: Azzurri | D5: Trieste | E5: Libri | F5: 357 | G5: 2 | H5: =VLOOKUP(vendite[[#This Row],[Provincia]],'Dati di Supporto'!$B$3:$C$105,2) -> Friuli-Venezia Giulia | I5: =VLOOKUP(vendite[[#This Row],[Regione]],'Dati di Supporto'!$G$3:$H$22,2) -> NORD | J5: =IF(F5<400,'Dati di Supporto'!$P$3,IF(AND(F5>400,F5<800),'Dati di Supporto'!$P$4,IF(AND(F5>800,F5<1200),'Dati di Supporto'!$P$5,IF(AND(F5>1200,F5<1500),'Dati di Supporto'!$P$6,IF(F5>1500,'Dati di Supporto'!$P$7,"FALSO"))))) -> Fascia 1 (inferiore a 400 €) | K5: =VLOOKUP(vendite[[#This Row],[ID tipo pagamento]],'Dati di Supporto'!$O$12:$P$16,2) -> Bonifico Bancario
A6: 11 | B6: 41784 | C6: Azzurri | D6: Sassari | E6: Informatica | F6: 19 | G6: 1 | H6: =VLOOKUP(vendite[[#This Row],[Provincia]],'Dati di Supporto'!$B$3:$C$105,2) -> Sardegna | I6: =VLOOKUP(vendite[[#This Row],[Regione]],'Dati di Supporto'!$G$3:$H$22,2) -> ISOLE | J6: =IF(F6<400,'Dati di Supporto'!$P$3,IF(AND(F6>400,F6<800),'Dati di Supporto'!$P$4,IF(AND(F6>800,F6<1200),'Dati di Supporto'!$P$5,IF(AND(F6>1200,F6<1500),'Dati di Supporto'!$P$6,IF(F6>1500,'Dati di Supporto'!$P$7,"FALSO"))))) -> Fascia 1 (inferiore a 400 €) | K6: =VLOOKUP(vendite[[#This Row],[ID tipo pagamento]],'Dati di Supporto'!$O$12:$P$16,2) -> Contanti
A7: 13 | B7: 41777 | C7: Azzurri | D7: Siena | E7: Libri | F7: 604 | G7: 1 | H7: =VLOOKUP(vendite[[#This Row],[Provincia]],'Dati di Supporto'!$B$3:$C$105,2) -> Toscana | I7: =VLOOKUP(vendite[[#This Row],[Regione]],'Dati di Supporto'!$G$3:$H$22,2) -> CENTRO | J7: =IF(F7<400,'Dati di Supporto'!$P$3,IF(AND(F7>400,F7<800),'Dati di Supporto'!$P$4,IF(AND(F7>800,F7<1200),'Dati di Supporto'!$P$5,IF(AND(F7>1200,F7<1500),'Dati di Supporto'!$P$6,IF(F7>1500,'Dati di Supporto'!$P$7,"FALSO"))))) -> Fascia 2 (da 400 € a meno di 800 €) | K7: =VLOOKUP(vendite[[#This Row],[ID tipo pagamento]],'Dati di Supporto'!$O$12:$P$16,2) -> Contanti
A8: 24 | B8: 41694 | C8: Azzurri | D8: Trapani | E8: Giocattoli | F8: 1072 | G8: 5 | H8: =VLOOKUP(vendite[[#This Row],[Provincia]],'Dati di Supporto'!$B$3:$C$105,2) -> Sicilia | I8: =VLOOKUP(vendite[[#This Row],[Regione]],'Dati di Supporto'!$G$3:$H$22,2) -> ISOLE | J8: =IF(F8<400,'Dati di Supporto'!$P$3,IF(AND(F8>400,F8<800),'Dati di Supporto'!$P$4,IF(AND(F8>800,F8<1200),'Dati di Supporto'!$P$5,IF(AND(F8>1200,F8<1500),'Dati di Supporto'!$P$6,IF(F8>1500,'Dati di Supporto'!$P$7,"FALSO"))))) -> Fascia 3 (da 800 € a meno di 1200 €) | K8: =VLOOKUP(vendite[[#This Row],[ID tipo pagamento]],'Dati di Supporto'!$O$12:$P$16,2) -> Assegno Bancario
A9: 28 | B9: 41728 | C9: Azzurri | D9: Pistoia | E9: Cancelleria | F9: 643 | G9: 1 | H9: =VLOOKUP(vendite[[#This Row],[Provincia]],'Dati di Supporto'!$B$3:$C$105,2) -> Toscana | I9: =VLOOKUP(vendite[[#This Row],[Regione]],'Dati di Supporto'!$G$3:$H$22,2) -> CENTRO | J9: =IF(F9<400,'Dati di Supporto'!$P$3,IF(AND(F9>400,F9<800),'Dati di Supporto'!$P$4,IF(AND(F9>800,F9<1200),'Dati di Supporto'!$P$5,IF(AND(F9>1200,F9<1500),'Dati di Supporto'!$P$6,IF(F9>1500,'Dati di Supporto'!$P$7,"FALSO"))))) -> Fascia 2 (da 400 € a meno di 800 €) | K9: =VLOOKUP(vendite[[#This Row],[ID tipo pagamento]],'Dati di Supporto'!$O$12:$P$16,2) -> Contanti
A10: 34 | B10: 41783 | C10: Azzurri | D10: Trapani | E10: Informatica | F10: 1288 | G10: 1 | H10: =VLOOKUP(vendite[[#This Row],[Provincia]],'Dati di Supporto'!$B$3:$C$105,2) -> Sicilia | I10: =VLOOKUP(vendite[[#This Row],[Regione]],'Dati di Supporto'!$G$3:$H$22,2) -> ISOLE | J10: =IF(F10<400,'Dati di Supporto'!$P$3,IF(AND(F10>400,F10<800),'Dati di Supporto'!$P$4,IF(AND(F10>800,F10<1200),'Dati di Supporto'!$P$5,IF(AND(F10>1200,F10<1500),'Dati di Supporto'!$P$6,IF(F10>1500,'Dati di Supporto'!$P$7,"FALSO"))))) -> Fascia 4 (da 1200 € a meno di 1500 €) | K10: =VLOOKUP(vendite[[#This Row],[ID tipo pagamento]],'Dati di Supporto'!$O$12:$P$16,2) -> Contanti
A11: 35 | B11: 41729 | C11: Azzurri | D11: Viterbo | E11: Libri | F11: 1857 | G11: 3 | H11: =VLOOKUP(vendite[[#This Row],[Provincia]],'Dati di Supporto'!$B$3:$C$105,2) -> Lazio | I11: =VLOOKUP(vendite[[#This Row],[Regione]],'Dati di Supporto'!$G$3:$H$22,2) -> CENTRO | J11: =IF(F11<400,'Dati di Supporto'!$P$3,IF(AND(F11>400,F11<800),'Dati di Supporto'!$P$4,IF(AND(F11>800,F11<1200),'Dati di Supporto'!$P$5,IF(AND(F11>1200,F11<1500),'Dati di Supporto'!$P$6,IF(F11>1500,'Dati di Supporto'!$P$7,"FALSO"))))) -> Fascia 5 (da 1500 € e oltre) | K11: =VLOOKUP(vendite[[#This Row],[ID tipo pagamento]],'Dati di Supporto'!$O$12:$P$16,2) -> Carta di credito
A12: 47 | B12: 41733 | C12: Azzurri | D12: Vibo Valentia | E12: Libri | F12: 1918 | G12: 3 | H12: =VLOOKUP(vendite[[#This Row],[Provincia]],'Dati di Supporto'!$B$3:$C$105,2) -> Calabria | I12: =VLOOKUP(vendite[[#This Row],[Regione]],'Dati di Supporto'!$G$3:$H$22,2) -> SUD | J12: =IF(F12<400,'Dati di Supporto'!$P$3,IF(AND(F12>400,F12<800),'Dati di Supporto'!$P$4,IF(AND(F12>800,F12<1200),'Dati di Supporto'!$P$5,IF(AND(F12>1200,F12<1500),'Dati di Supporto'!$P$6,IF(F12>1500,'Dati di Supporto'!$P$7,"FALSO"))))) -> Fascia 5 (da 1500 € e oltre) | K12: =VLOOKUP(vendite[[#This Row],[ID tipo pagamento]],'Dati di Supporto'!$O$12:$P$16,2) -> Carta di credito
A13: 56 | B13: 41796 | C13: Azzurri | D13: Prato | E13: Informatica | F13: 1724 | G13: 4 | H13: =VLOOKUP(vendite[[#This Row],[Provincia]],'Dati di Supporto'!$B$3:$C$105,2) -> Toscana | I13: =VLOOKUP(vendite[[#This Row],[Regione]],'Dati di Supporto'!$G$3:$H$22,2) -> CENTRO | J13: =IF(F13<400,'Dati di Supporto'!$P$3,IF(AND(F13>400,F13<800),'Dati di Supporto'!$P$4,IF(AND(F13>800,F13<1200),'Dati di Supporto'!$P$5,IF(AND(F13>1200,F13<1500),'Dati di Supporto'!$P$6,IF(F13>1500,'Dati di Supporto'!$P$7,"FALSO"))))) -> Fascia 5 (da 1500 € e oltre) | K13: =VLOOKUP(vendite[[#This Row],[ID tipo pagamento]],'Dati di Supporto'!$O$12:$P$16,2) -> Bollettino postale
... A501: 500 | B501: 41718 | C501: Verdi | D501: Trapani | E501: Cancelleria | F501: 1892 | G501: 4 | H501: =VLOOKUP(vendite[[#This Row],[Provincia]],'Dati di Supporto'!$B$3:$C$105,2) -> Sicilia | I501: =VLOOKUP(vendite[[#This Row],[Regione]],'Dati di Supporto'!$G$3:$H$22,2) -> ISOLE | J501: =IF(F501<400,'Dati di Supporto'!$P$3,IF(AND(F501>400,F501<800),'Dati di Supporto'!$P$4,IF(AND(F501>800,F501<1200),'Dati di Supporto'!$P$5,IF(AND(F501>1200,F501<1500),'Dati di Supporto'!$P$6,IF(F501>1500,'Dati di Supporto'!$P$7,"FALSO"))))) -> Fascia 5 (da 1500 € e oltre) | K501: =VLOOKUP(vendite[[#This Row],[ID tipo pagamento]],'Dati di Supporto'!$O$12:$P$16,2) -> Bollettino postale

Sheet Dati di Supporto
A1: Colonna1 | B1: Colonna2 | C1: Colonna3 | D1: Colonna4 | F1: Colonna1 | G1: Colonna2 | H1: Colonna3 | J1: ZONA | L1: Colonna1 | M1: Colonna2 | O1: Colonna1 | P1: Colonna2 | Q1: Colonna3
A2: ID | B2: PROVINCE | C2: REGIONI | D2: SIGLA | F2: ID | G2: REGIONI | H2: ZONA | J2: NORD | L2: ID | M2: VENDITORI | O2: SOGLIA | P2: NOME FASCE | Q2: NR
A3: 1 | B3: Agrigento | C3: Sicilia | D3: AG | F3: 1 | G3: Abruzzo | H3: CENTRO | J3: CENTRO | L3: 1 | M3: Bianchi | O3: 0 | P3: ="Fascia " & Q3 & " (inferiore a "& O4 & " €)" -> Fascia 1 (inferiore a 400 €) | Q3: 1
A4: 2 | B4: Alessandria | C4: Piemonte | D4: AL | F4: 2 | G4: Basilicata | H4: SUD | J4: SUD | L4: 2 | M4: Neri | O4: 400 | P4: ="Fascia " & Q4 & " (da "& O4 &" € a meno di "& O5 & " €)" -> Fascia 2 (da 400 € a meno di 800 €) | Q4: 2
A5: 3 | B5: Ancona | C5: Marche | D5: AN | F5: 3 | G5: Calabria | H5: SUD | J5: ISOLE | L5: 3 | M5: Rossi | O5: 800 | P5: ="Fascia " & Q5 & " (da "& O5 &" € a meno di "& O6 & " €)" -> Fascia 3 (da 800 € a meno di 1200 €) | Q5: 3
A6: 4 | B6: Aosta | C6: Valle d'Aosta | D6: AO | F6: 4 | G6: Campania | H6: SUD | L6: 4 | M6: Azzurri | O6: 1200 | P6: ="Fascia " & Q6 & " (da "& O6 &" € a meno di "& O7 & " €)" -> Fascia 4 (da 1200 € a meno di 1500 €) | Q6: 4
A7: 5 | B7: Arezzo | C7: Toscana | D7: AR | F7: 5 | G7: Emilia-Romagna | H7: NORD | L7: 5 | M7: Gialli | O7: 1500 | P7: ="Fascia " & Q7 & " (da "&O7 & " € e oltre)" -> Fascia 5 (da 1500 € e oltre) | Q7: 5
A8: 6 | B8: Ascoli Piceno | C8: Marche | D8: AP | F8: 6 | G8: Friuli-Venezia Giulia | H8: NORD | L8: 6 | M8: Verdi
A9: 7 | B9: Asti | C9: Piemonte | D9: AT | F9: 7 | G9: Lazio | H9: CENTRO
A10: 8 | B10: Avellino | C10: Campania | D10: AV | F10: 8 | G10: Liguria | H10: NORD | L10: Colonna1 | M10: Colonna2 | O10: Colonna1 | P10: Colonna2
A11: 9 | B11: Bari | C11: Puglia | D11: BA | F11: 9 | G11: Lombardia | H11: NORD | L11: ID | M11: SETTORE | O11: ID | P11: Modalità di pagamento
A12: 10 | B12: Belluno | C12: Veneto | D12: BL | F12: 10 | G12: Marche | H12: CENTRO | L12: 1 | M12: Cancelleria | O12: 1 | P12: Contanti
A13: 11 | B13: Benevento | C13: Campania | D13: BN | F13: 11 | G13: Molise | H13: CENTRO | L13: 2 | M13: Informatica | O13: 2 | P13: Bonifico Bancario
A14: 12 | B14: Bergamo | C14: Lombardia | D14: BG | F14: 12 | G14: Piemonte | H14: NORD | L14: 3 | M14: Giocattoli | O14: 3 | P14: Carta di credito
A15: 13 | B15: Biella | C15: Piemonte | D15: BI | F15: 13 | G15: Puglia | H15: SUD | L15: 4 | M15: Art. Regalo | O15: 4 | P15: Bollettino postale
A16: 14 | B16: Bologna | C16: Emilia-Romagna | D16: BO | F16: 14 | G16: Sardegna | H16: ISOLE | L16: 5 | M16: Libri | O16: 5 | P16: Assegno Bancario
A17: 15 | B17: Bolzano | C17: Trentino-Alto Adige | D17: BZ | F17: 15 | G17: Sicilia | H17: ISOLE
A18: 16 | B18: Brescia | C18: Lombardia | D18: BS | F18: 16 | G18: Toscana | H18: CENTRO
A19: 17 | B19: Brindisi | C19: Puglia | D19: BR | F19: 17 | G19: Trentino-Alto Adige | H19: NORD
A20: 18 | B20: Cagliari | C20: Sardegna | D20: CA | F20: 18 | G20: Umbria | H20: CENTRO
A21: 19 | B21: Caltanissetta | C21: Sicilia | D21: CL | F21: 19 | G21: Valle d'Aosta | H21: NORD
A22: 20 | B22: Campobasso | C22: Molise | D22: CB | F22: 20 | G22: Veneto | H22: NORD
A23: 21 | B23: Caserta | C23: Campania | D23: CE
A24: 22 | B24: Catania | C24: Sicilia | D24: CT
A25: 23 | B25: Catanzaro | C25: Calabria | D25: CZ
A26: 24 | B26: Chieti | C26: Abruzzo | D26: CH
A27: 25 | B27: Como | C27: Lombardia | D27: CO
A28: 26 | B28: Cosenza | C28: Calabria | D28: CS
A29: 27 | B29: Cremona | C29: Lombardia | D29: CR
A30: 28 | B30: Crotone | C30: Calabria | D30: KR
A31: 29 | B31: Cuneo | C31: Piemonte | D31: CN
A32: 30 | B32: Enna | C32: Sicilia | D32: EN
A33: 31 | B33: Ferrara | C33: Emilia-Romagna | D33: FE
A34: 32 | B34: Firenze | C34: Toscana | D34: FI
... A105: 103 | B105: Viterbo | C105: Lazio | D105: VT
